BEGIN:VCALENDAR
VERSION:2.0
PRODID:-//Freie Wähler Dossenheim - ECPv6.15.12.2//NONSGML v1.0//EN
CALSCALE:GREGORIAN
METHOD:PUBLISH
X-ORIGINAL-URL:https://freie-waehler-dossenheim.de
X-WR-CALDESC:Veranstaltungen für Freie Wähler Dossenheim
REFRESH-INTERVAL;VALUE=DURATION:PT1H
X-Robots-Tag:noindex
X-PUBLISHED-TTL:PT1H
BEGIN:VTIMEZONE
TZID:Europe/Berlin
BEGIN:DAYLIGHT
TZOFFSETFROM:+0100
TZOFFSETTO:+0200
TZNAME:CEST
DTSTART:20250330T010000
END:DAYLIGHT
BEGIN:STANDARD
TZOFFSETFROM:+0200
TZOFFSETTO:+0100
TZNAME:CET
DTSTART:20251026T010000
END:STANDARD
BEGIN:DAYLIGHT
TZOFFSETFROM:+0100
TZOFFSETTO:+0200
TZNAME:CEST
DTSTART:20260329T010000
END:DAYLIGHT
BEGIN:STANDARD
TZOFFSETFROM:+0200
TZOFFSETTO:+0100
TZNAME:CET
DTSTART:20261025T010000
END:STANDARD
BEGIN:DAYLIGHT
TZOFFSETFROM:+0100
TZOFFSETTO:+0200
TZNAME:CEST
DTSTART:20270328T010000
END:DAYLIGHT
BEGIN:STANDARD
TZOFFSETFROM:+0200
TZOFFSETTO:+0100
TZNAME:CET
DTSTART:20271031T010000
END:STANDARD
END:VTIMEZONE
BEGIN:VEVENT
DTSTART;TZID=Europe/Berlin:20261019T193000
DTEND;TZID=Europe/Berlin:20261019T213000
DTSTAMP:20260422T033458
CREATED:20251129T164641Z
LAST-MODIFIED:20251129T164930Z
UID:2026-1792438200-1792445400@freie-waehler-dossenheim.de
SUMMARY:9. Kommunalpolitische Sitzung 2026
DESCRIPTION:9. Kommunalpolitische Sitzung im Rathaussaal
URL:https://freie-waehler-dossenheim.de/termine/9-kommunalpolitische-sitzung-2026/
LOCATION:Rathaussaal\, Am Rathausplatz 1\, Dossenheim\, Baden-Württemberg\, 69221\, Deutschland
END:VEVENT
BEGIN:VEVENT
DTSTART;TZID=Europe/Berlin:20261020T190000
DTEND;TZID=Europe/Berlin:20261020T220000
DTSTAMP:20260422T033458
CREATED:20260119T135627Z
LAST-MODIFIED:20260119T135627Z
UID:2097-1792522800-1792533600@freie-waehler-dossenheim.de
SUMMARY:9. Gemeinderatssitzung 2026
DESCRIPTION:9. Gemeinderatssitzung 2026
URL:https://freie-waehler-dossenheim.de/termine/9-gemeinderatssitzung-2026/
LOCATION:Rathaussaal\, Am Rathausplatz 1\, Dossenheim\, Baden-Württemberg\, 69221\, Deutschland
END:VEVENT
BEGIN:VEVENT
DTSTART;TZID=Europe/Berlin:20261025T193000
DTEND;TZID=Europe/Berlin:20261025T213000
DTSTAMP:20260422T033458
CREATED:20251129T165417Z
LAST-MODIFIED:20251129T170105Z
UID:2035-1792956600-1792963800@freie-waehler-dossenheim.de
SUMMARY:Politisches Weißwurstfrühstück 2026
DESCRIPTION:Politisches Weißwurstfrühstück im Kleinen Haus
URL:https://freie-waehler-dossenheim.de/termine/politisches-weisswurstfruehstueck-2026/
LOCATION:Kleines Haus\, Bachstraße 33\, Dossenheim\, Baden-Württemberg\, 69221\, Germany
END:VEVENT
END:VCALENDAR