BEGIN:VCALENDAR
VERSION:2.0
PRODID:-//Freie Wähler Dossenheim - ECPv6.15.12.2//NONSGML v1.0//EN
CALSCALE:GREGORIAN
METHOD:PUBLISH
X-ORIGINAL-URL:https://freie-waehler-dossenheim.de
X-WR-CALDESC:Veranstaltungen für Freie Wähler Dossenheim
REFRESH-INTERVAL;VALUE=DURATION:PT1H
X-Robots-Tag:noindex
X-PUBLISHED-TTL:PT1H
BEGIN:VTIMEZONE
TZID:Europe/Berlin
BEGIN:DAYLIGHT
TZOFFSETFROM:+0100
TZOFFSETTO:+0200
TZNAME:CEST
DTSTART:20250330T010000
END:DAYLIGHT
BEGIN:STANDARD
TZOFFSETFROM:+0200
TZOFFSETTO:+0100
TZNAME:CET
DTSTART:20251026T010000
END:STANDARD
BEGIN:DAYLIGHT
TZOFFSETFROM:+0100
TZOFFSETTO:+0200
TZNAME:CEST
DTSTART:20260329T010000
END:DAYLIGHT
BEGIN:STANDARD
TZOFFSETFROM:+0200
TZOFFSETTO:+0100
TZNAME:CET
DTSTART:20261025T010000
END:STANDARD
BEGIN:DAYLIGHT
TZOFFSETFROM:+0100
TZOFFSETTO:+0200
TZNAME:CEST
DTSTART:20270328T010000
END:DAYLIGHT
BEGIN:STANDARD
TZOFFSETFROM:+0200
TZOFFSETTO:+0100
TZNAME:CET
DTSTART:20271031T010000
END:STANDARD
END:VTIMEZONE
BEGIN:VEVENT
DTSTART;TZID=Europe/Berlin:20260712T110000
DTEND;TZID=Europe/Berlin:20260712T160000
DTSTAMP:20260421T221424
CREATED:20251129T164324Z
LAST-MODIFIED:20251129T164334Z
UID:2020-1783854000-1783872000@freie-waehler-dossenheim.de
SUMMARY:Sommerfest 2026
DESCRIPTION:Sommerfest im Steinbruch Leferenz
URL:https://freie-waehler-dossenheim.de/termine/sommerfest-2026/
LOCATION:Steinbruch Leferenz\, Am Neuberg 12\, Dossenheim\, Baden-Württemberg\, 69221\, Deutschland
END:VEVENT
BEGIN:VEVENT
DTSTART;TZID=Europe/Berlin:20260727T193000
DTEND;TZID=Europe/Berlin:20260727T213000
DTSTAMP:20260421T221424
CREATED:20251129T164151Z
LAST-MODIFIED:20251129T164151Z
UID:2018-1785180600-1785187800@freie-waehler-dossenheim.de
SUMMARY:7. Kommunalpolitische Sitzung 2026
DESCRIPTION:7. Kommunalpolitische Sitzung: Mitgliederversammlung + Wahlen im Rathaussaal
URL:https://freie-waehler-dossenheim.de/termine/7-kommunalpolitische-sitzung-2026/
LOCATION:Rathaussaal\, Am Rathausplatz 1\, Dossenheim\, Baden-Württemberg\, 69221\, Deutschland
END:VEVENT
BEGIN:VEVENT
DTSTART;TZID=Europe/Berlin:20260728T190000
DTEND;TZID=Europe/Berlin:20260728T220000
DTSTAMP:20260421T221424
CREATED:20260119T135016Z
LAST-MODIFIED:20260119T135016Z
UID:2093-1785265200-1785276000@freie-waehler-dossenheim.de
SUMMARY:7. Gemeinderatssitzung 2026
DESCRIPTION:7. Gemeinderatssitzung 2026
URL:https://freie-waehler-dossenheim.de/termine/7-gemeinderatssitzung-2026/
LOCATION:Rathaussaal\, Am Rathausplatz 1\, Dossenheim\, Baden-Württemberg\, 69221\, Deutschland
END:VEVENT
END:VCALENDAR