BEGIN:VCALENDAR
VERSION:2.0
PRODID:-//Freie Wähler Dossenheim - ECPv6.15.12.2//NONSGML v1.0//EN
CALSCALE:GREGORIAN
METHOD:PUBLISH
X-WR-CALNAME:Freie Wähler Dossenheim
X-ORIGINAL-URL:https://freie-waehler-dossenheim.de
X-WR-CALDESC:Veranstaltungen für Freie Wähler Dossenheim
REFRESH-INTERVAL;VALUE=DURATION:PT1H
X-Robots-Tag:noindex
X-PUBLISHED-TTL:PT1H
BEGIN:VTIMEZONE
TZID:Europe/Berlin
BEGIN:DAYLIGHT
TZOFFSETFROM:+0100
TZOFFSETTO:+0200
TZNAME:CEST
DTSTART:20250330T010000
END:DAYLIGHT
BEGIN:STANDARD
TZOFFSETFROM:+0200
TZOFFSETTO:+0100
TZNAME:CET
DTSTART:20251026T010000
END:STANDARD
BEGIN:DAYLIGHT
TZOFFSETFROM:+0100
TZOFFSETTO:+0200
TZNAME:CEST
DTSTART:20260329T010000
END:DAYLIGHT
BEGIN:STANDARD
TZOFFSETFROM:+0200
TZOFFSETTO:+0100
TZNAME:CET
DTSTART:20261025T010000
END:STANDARD
BEGIN:DAYLIGHT
TZOFFSETFROM:+0100
TZOFFSETTO:+0200
TZNAME:CEST
DTSTART:20270328T010000
END:DAYLIGHT
BEGIN:STANDARD
TZOFFSETFROM:+0200
TZOFFSETTO:+0100
TZNAME:CET
DTSTART:20271031T010000
END:STANDARD
END:VTIMEZONE
BEGIN:VEVENT
DTSTART;TZID=Europe/Berlin:20260510T110000
DTEND;TZID=Europe/Berlin:20260510T160000
DTSTAMP:20260421T183424
CREATED:20260419T094452Z
LAST-MODIFIED:20260419T094452Z
UID:2119-1778410800-1778428800@freie-waehler-dossenheim.de
SUMMARY:Spargelfest der Freien Wähler Oftersheim
DESCRIPTION:
URL:https://freie-waehler-dossenheim.de/termine/spargelfest-der-freien-waehler-oftersheim/
LOCATION:Freie Wähler Oftersheim\, Mannheimer Str. 59\, Oftersheim\, Baden-Württemberg\, 68723\, Germany
END:VEVENT
BEGIN:VEVENT
DTSTART;TZID=Europe/Berlin:20260518T193000
DTEND;TZID=Europe/Berlin:20260518T213000
DTSTAMP:20260421T183424
CREATED:20251129T145010Z
LAST-MODIFIED:20251129T163617Z
UID:2004-1779132600-1779139800@freie-waehler-dossenheim.de
SUMMARY:5. Kommunalpolitische Sitzung 2026
DESCRIPTION:5. Kommunalpolitische Sitzung im Rathaussaal
URL:https://freie-waehler-dossenheim.de/termine/5-kommunalpolitische-sitzung-2026/
LOCATION:Rathaussaal\, Am Rathausplatz 1\, Dossenheim\, Baden-Württemberg\, 69221\, Deutschland
END:VEVENT
BEGIN:VEVENT
DTSTART;TZID=Europe/Berlin:20260519T190000
DTEND;TZID=Europe/Berlin:20260519T220000
DTSTAMP:20260421T183424
CREATED:20260119T134747Z
LAST-MODIFIED:20260119T134747Z
UID:2089-1779217200-1779228000@freie-waehler-dossenheim.de
SUMMARY:5. Gemeinderatssitzung 2026
DESCRIPTION:5. Gemeinderatssitzung 2026
URL:https://freie-waehler-dossenheim.de/termine/5-gemeinderatssitzung-2026/
LOCATION:Rathaussaal\, Am Rathausplatz 1\, Dossenheim\, Baden-Württemberg\, 69221\, Deutschland
END:VEVENT
END:VCALENDAR