BEGIN:VCALENDAR
VERSION:2.0
PRODID:-//Freie Wähler Dossenheim - ECPv6.15.12.2//NONSGML v1.0//EN
CALSCALE:GREGORIAN
METHOD:PUBLISH
X-WR-CALNAME:Freie Wähler Dossenheim
X-ORIGINAL-URL:https://freie-waehler-dossenheim.de
X-WR-CALDESC:Veranstaltungen für Freie Wähler Dossenheim
REFRESH-INTERVAL;VALUE=DURATION:PT1H
X-Robots-Tag:noindex
X-PUBLISHED-TTL:PT1H
BEGIN:VTIMEZONE
TZID:Europe/Berlin
BEGIN:DAYLIGHT
TZOFFSETFROM:+0100
TZOFFSETTO:+0200
TZNAME:CEST
DTSTART:20250330T010000
END:DAYLIGHT
BEGIN:STANDARD
TZOFFSETFROM:+0200
TZOFFSETTO:+0100
TZNAME:CET
DTSTART:20251026T010000
END:STANDARD
BEGIN:DAYLIGHT
TZOFFSETFROM:+0100
TZOFFSETTO:+0200
TZNAME:CEST
DTSTART:20260329T010000
END:DAYLIGHT
BEGIN:STANDARD
TZOFFSETFROM:+0200
TZOFFSETTO:+0100
TZNAME:CET
DTSTART:20261025T010000
END:STANDARD
BEGIN:DAYLIGHT
TZOFFSETFROM:+0100
TZOFFSETTO:+0200
TZNAME:CEST
DTSTART:20270328T010000
END:DAYLIGHT
BEGIN:STANDARD
TZOFFSETFROM:+0200
TZOFFSETTO:+0100
TZNAME:CET
DTSTART:20271031T010000
END:STANDARD
END:VTIMEZONE
BEGIN:VEVENT
DTSTART;TZID=Europe/Berlin:20260308T080000
DTEND;TZID=Europe/Berlin:20260308T180000
DTSTAMP:20260421T183819
CREATED:20260119T134006Z
LAST-MODIFIED:20260119T134014Z
UID:2078-1772956800-1772992800@freie-waehler-dossenheim.de
SUMMARY:Landtagswahl Baden-Württemberg
DESCRIPTION:Landtagswahl Baden-Württemberg
URL:https://freie-waehler-dossenheim.de/termine/landtagswahl-baden-wuerttemberg/
LOCATION:Baden-Württemberg\, Baden-Württemberg\, Germany
END:VEVENT
BEGIN:VEVENT
DTSTART;TZID=Europe/Berlin:20260323T193000
DTEND;TZID=Europe/Berlin:20260323T213000
DTSTAMP:20260421T183819
CREATED:20251129T144604Z
LAST-MODIFIED:20251129T163426Z
UID:1997-1774294200-1774301400@freie-waehler-dossenheim.de
SUMMARY:3. Kommunalpolitische Sitzung 2026
DESCRIPTION:3. Kommunalpolitische Sitzung im Rathaussaal
URL:https://freie-waehler-dossenheim.de/termine/3-kommunalpolitische-sitzung-2026/
LOCATION:Rathaussaal\, Am Rathausplatz 1\, Dossenheim\, Baden-Württemberg\, 69221\, Deutschland
END:VEVENT
BEGIN:VEVENT
DTSTART;TZID=Europe/Berlin:20260324T190000
DTEND;TZID=Europe/Berlin:20260324T220000
DTSTAMP:20260421T183819
CREATED:20260119T134521Z
LAST-MODIFIED:20260119T134527Z
UID:2085-1774378800-1774389600@freie-waehler-dossenheim.de
SUMMARY:3. Gemeinderatssitzung 2026
DESCRIPTION:3. Gemeinderatssitzung 2026
URL:https://freie-waehler-dossenheim.de/termine/3-gemeinderatssitzung-2026/
LOCATION:Rathaussaal\, Am Rathausplatz 1\, Dossenheim\, Baden-Württemberg\, 69221\, Deutschland
END:VEVENT
END:VCALENDAR