BEGIN:VCALENDAR
VERSION:2.0
PRODID:-//Freie Wähler Dossenheim - ECPv6.15.12.2//NONSGML v1.0//EN
CALSCALE:GREGORIAN
METHOD:PUBLISH
X-ORIGINAL-URL:https://freie-waehler-dossenheim.de
X-WR-CALDESC:Veranstaltungen für Freie Wähler Dossenheim
REFRESH-INTERVAL;VALUE=DURATION:PT1H
X-Robots-Tag:noindex
X-PUBLISHED-TTL:PT1H
BEGIN:VTIMEZONE
TZID:Europe/Berlin
BEGIN:DAYLIGHT
TZOFFSETFROM:+0100
TZOFFSETTO:+0200
TZNAME:CEST
DTSTART:20240331T010000
END:DAYLIGHT
BEGIN:STANDARD
TZOFFSETFROM:+0200
TZOFFSETTO:+0100
TZNAME:CET
DTSTART:20241027T010000
END:STANDARD
BEGIN:DAYLIGHT
TZOFFSETFROM:+0100
TZOFFSETTO:+0200
TZNAME:CEST
DTSTART:20250330T010000
END:DAYLIGHT
BEGIN:STANDARD
TZOFFSETFROM:+0200
TZOFFSETTO:+0100
TZNAME:CET
DTSTART:20251026T010000
END:STANDARD
BEGIN:DAYLIGHT
TZOFFSETFROM:+0100
TZOFFSETTO:+0200
TZNAME:CEST
DTSTART:20260329T010000
END:DAYLIGHT
BEGIN:STANDARD
TZOFFSETFROM:+0200
TZOFFSETTO:+0100
TZNAME:CET
DTSTART:20261025T010000
END:STANDARD
END:VTIMEZONE
BEGIN:VEVENT
DTSTART;TZID=Europe/Berlin:20251011T090000
DTEND;TZID=Europe/Berlin:20251011T130000
DTSTAMP:20260422T035231
CREATED:20251006T170542Z
LAST-MODIFIED:20251006T171526Z
UID:1959-1760173200-1760187600@freie-waehler-dossenheim.de
SUMMARY:Waffelstand für Windkraft
DESCRIPTION:Lassen Sie sich einen Hauch von Puderzucker und süßem Waffelgeruch um die Nase wehen – die Freien Wähler Dossenheim verwöhnen wieder die Gaumen der Dossenheimer Bürgerinnen und Bürger vor dem Friseurgeschäft Hin & Hair by Michelle Bähr.
URL:https://freie-waehler-dossenheim.de/termine/waffelstand-fuer-windkraft/
LOCATION:Hin & Hair by Michelle Bähr\, Bahnhofstraße 3\, Dossenheim\, Baden-Württemberg\, 69221\, Deutschland
END:VEVENT
BEGIN:VEVENT
DTSTART;TZID=Europe/Berlin:20251020T193000
DTEND;TZID=Europe/Berlin:20251020T210000
DTSTAMP:20260422T035231
CREATED:20241113T172425Z
LAST-MODIFIED:20251006T170133Z
UID:1775-1760988600-1760994000@freie-waehler-dossenheim.de
SUMMARY:Kommunalpolitische Sitzung Oktober 2025
DESCRIPTION:Kommunalpolitische Sitzung mit aktuellen Themen
URL:https://freie-waehler-dossenheim.de/termine/kommunalpolitische-sitzung-oktober-2025/
LOCATION:Rathaussaal\, Am Rathausplatz 1\, Dossenheim\, Baden-Württemberg\, 69221\, Deutschland
END:VEVENT
BEGIN:VEVENT
DTSTART;TZID=Europe/Berlin:20251023T183000
DTEND;TZID=Europe/Berlin:20251023T210000
DTSTAMP:20260422T035231
CREATED:20251006T171029Z
LAST-MODIFIED:20251006T171029Z
UID:1961-1761244200-1761253200@freie-waehler-dossenheim.de
SUMMARY:Infoveranstaltung Bürgerentscheid
DESCRIPTION:Die Gemeinde Dossenheim lädt alle Dossenheimer Bürgerinnen und Bürger zu einer Informationsveranstaltung im Vorfeld des Bürgerentscheids Windkraft ein.
URL:https://freie-waehler-dossenheim.de/termine/infoveranstaltung-buergerentscheid/
LOCATION:Jahnhalle\, Gerhart-Hauptmann-Straße16\, Dossenheim\, Baden-Württemberg\, 69221\, Germany
END:VEVENT
BEGIN:VEVENT
DTSTART;TZID=Europe/Berlin:20251026T110000
DTEND;TZID=Europe/Berlin:20251026T150000
DTSTAMP:20260422T035231
CREATED:20241113T172700Z
LAST-MODIFIED:20241113T172700Z
UID:1777-1761476400-1761490800@freie-waehler-dossenheim.de
SUMMARY:Politisches Weißwurstfrühstück 2025
DESCRIPTION:Ein Frühstück für groß und klein mit zünftiger Weißwurst\, Brezn und Bier.
URL:https://freie-waehler-dossenheim.de/termine/politisches-weisswurstfruehstueck-2025/
LOCATION:Heimatmuseum\, Rathausstraße 47\, Dossenheim\, Baden-Württemberg\, 69221\, Deutschland
END:VEVENT
END:VCALENDAR