BEGIN:VCALENDAR
VERSION:2.0
PRODID:-//Freie Wähler Dossenheim - ECPv6.15.12.2//NONSGML v1.0//EN
CALSCALE:GREGORIAN
METHOD:PUBLISH
X-ORIGINAL-URL:https://freie-waehler-dossenheim.de
X-WR-CALDESC:Veranstaltungen für Freie Wähler Dossenheim
REFRESH-INTERVAL;VALUE=DURATION:PT1H
X-Robots-Tag:noindex
X-PUBLISHED-TTL:PT1H
BEGIN:VTIMEZONE
TZID:Europe/Berlin
BEGIN:DAYLIGHT
TZOFFSETFROM:+0100
TZOFFSETTO:+0200
TZNAME:CEST
DTSTART:20240331T010000
END:DAYLIGHT
BEGIN:STANDARD
TZOFFSETFROM:+0200
TZOFFSETTO:+0100
TZNAME:CET
DTSTART:20241027T010000
END:STANDARD
BEGIN:DAYLIGHT
TZOFFSETFROM:+0100
TZOFFSETTO:+0200
TZNAME:CEST
DTSTART:20250330T010000
END:DAYLIGHT
BEGIN:STANDARD
TZOFFSETFROM:+0200
TZOFFSETTO:+0100
TZNAME:CET
DTSTART:20251026T010000
END:STANDARD
BEGIN:DAYLIGHT
TZOFFSETFROM:+0100
TZOFFSETTO:+0200
TZNAME:CEST
DTSTART:20260329T010000
END:DAYLIGHT
BEGIN:STANDARD
TZOFFSETFROM:+0200
TZOFFSETTO:+0100
TZNAME:CET
DTSTART:20261025T010000
END:STANDARD
END:VTIMEZONE
BEGIN:VEVENT
DTSTART;TZID=Europe/Berlin:20250310T193000
DTEND;TZID=Europe/Berlin:20250310T210000
DTSTAMP:20260422T140422
CREATED:20241112T173928Z
LAST-MODIFIED:20241112T173928Z
UID:1761-1741635000-1741640400@freie-waehler-dossenheim.de
SUMMARY:Kommunalpolitische Sitzung März 2025
DESCRIPTION:Kommunalpolitische Sitzung mit aktuellen Themen
URL:https://freie-waehler-dossenheim.de/termine/kommunalpolitische-sitzung-maerz-2025/
LOCATION:Rathaussaal\, Am Rathausplatz 1\, Dossenheim\, Baden-Württemberg\, 69221\, Deutschland
END:VEVENT
BEGIN:VEVENT
DTSTART;TZID=Europe/Berlin:20250329T100000
DTEND;TZID=Europe/Berlin:20250329T150000
DTSTAMP:20260422T140422
CREATED:20250218T185204Z
LAST-MODIFIED:20250218T185204Z
UID:1872-1743242400-1743260400@freie-waehler-dossenheim.de
SUMMARY:Freie Wähler Waffelstand
DESCRIPTION:Die Freien Wähler Dossenheim verwöhnen wieder die Gaumen der Dossenheimer Bürgerinnen und Bürger vor dem Friseurgeschäft Hin & Hair by Michelle Bähr
URL:https://freie-waehler-dossenheim.de/termine/freie-waehler-waffelstand/
LOCATION:Hin & Hair by Michelle Bähr\, Bahnhofstraße 3\, Dossenheim\, Baden-Württemberg\, 69221\, Deutschland
END:VEVENT
END:VCALENDAR