BEGIN:VCALENDAR
VERSION:2.0
PRODID:-//Freie Wähler Dossenheim - ECPv6.15.12.2//NONSGML v1.0//EN
CALSCALE:GREGORIAN
METHOD:PUBLISH
X-WR-CALNAME:Freie Wähler Dossenheim
X-ORIGINAL-URL:https://freie-waehler-dossenheim.de
X-WR-CALDESC:Veranstaltungen für Freie Wähler Dossenheim
REFRESH-INTERVAL;VALUE=DURATION:PT1H
X-Robots-Tag:noindex
X-PUBLISHED-TTL:PT1H
BEGIN:VTIMEZONE
TZID:Europe/Berlin
BEGIN:DAYLIGHT
TZOFFSETFROM:+0100
TZOFFSETTO:+0200
TZNAME:CEST
DTSTART:20230326T010000
END:DAYLIGHT
BEGIN:STANDARD
TZOFFSETFROM:+0200
TZOFFSETTO:+0100
TZNAME:CET
DTSTART:20231029T010000
END:STANDARD
BEGIN:DAYLIGHT
TZOFFSETFROM:+0100
TZOFFSETTO:+0200
TZNAME:CEST
DTSTART:20240331T010000
END:DAYLIGHT
BEGIN:STANDARD
TZOFFSETFROM:+0200
TZOFFSETTO:+0100
TZNAME:CET
DTSTART:20241027T010000
END:STANDARD
BEGIN:DAYLIGHT
TZOFFSETFROM:+0100
TZOFFSETTO:+0200
TZNAME:CEST
DTSTART:20250330T010000
END:DAYLIGHT
BEGIN:STANDARD
TZOFFSETFROM:+0200
TZOFFSETTO:+0100
TZNAME:CET
DTSTART:20251026T010000
END:STANDARD
END:VTIMEZONE
BEGIN:VEVENT
DTSTART;TZID=Europe/Berlin:20240501T100000
DTEND;TZID=Europe/Berlin:20240501T180000
DTSTAMP:20260423T081055
CREATED:20240429T153337Z
LAST-MODIFIED:20240429T153400Z
UID:1510-1714557600-1714586400@freie-waehler-dossenheim.de
SUMMARY:1. Mai-Feier auf dem Schröderhof
DESCRIPTION:1. Mai-Feier auf dem Schröderhof \n\nmit Ponyreiten\nKinderschminken\nKutschrundfahrten
URL:https://freie-waehler-dossenheim.de/termine/1-mai-feier-auf-dem-schroederhof/
LOCATION:Schröderhof\, Im Dosenwald 3\, 69221\, Baden-Württemberg\, 69221\, Deutschland
END:VEVENT
BEGIN:VEVENT
DTSTART;TZID=Europe/Berlin:20240504T100000
DTEND;TZID=Europe/Berlin:20240504T150000
DTSTAMP:20260423T081055
CREATED:20240409T164330Z
LAST-MODIFIED:20240409T170437Z
UID:1427-1714816800-1714834800@freie-waehler-dossenheim.de
SUMMARY:Wahlstand am Friseur Bähr I
DESCRIPTION:Wahlstand vor Hin & Hair by Michelle Bähr
URL:https://freie-waehler-dossenheim.de/termine/wahlstand-friseur-baehr-1/
LOCATION:Hin & Hair by Michelle Bähr\, Bahnhofstraße 3\, Dossenheim\, Baden-Württemberg\, 69221\, Deutschland
END:VEVENT
BEGIN:VEVENT
DTSTART;TZID=Europe/Berlin:20240506T193000
DTEND;TZID=Europe/Berlin:20240506T213000
DTSTAMP:20260423T081055
CREATED:20240115T183630Z
LAST-MODIFIED:20240115T183641Z
UID:715-1715023800-1715031000@freie-waehler-dossenheim.de
SUMMARY:Kommunalpolitische Sitzung Mai
DESCRIPTION:Kommunalpolitische Sitzung mit aktuellen Themen
URL:https://freie-waehler-dossenheim.de/termine/kommunalpolitische-sitzung-mai/
LOCATION:Rathaussaal\, Am Rathausplatz 1\, Dossenheim\, Baden-Württemberg\, 69221\, Deutschland
END:VEVENT
BEGIN:VEVENT
DTSTART;TZID=Europe/Berlin:20240508T100000
DTEND;TZID=Europe/Berlin:20240508T150000
DTSTAMP:20260423T081055
CREATED:20240409T170710Z
LAST-MODIFIED:20240409T170906Z
UID:1446-1715162400-1715180400@freie-waehler-dossenheim.de
SUMMARY:Wahlpräsenz am Zunftbaum II
DESCRIPTION:Wahlpräsenz am Zunftbaum\, Rathausplatz
URL:https://freie-waehler-dossenheim.de/termine/wahlpraesenz-am-zunftbaum-2/
LOCATION:Zunftbaum\, Rathausplatz\, Dossenheim\, Baden-Württemberg\, 69221\, Deutschland
END:VEVENT
BEGIN:VEVENT
DTSTART;TZID=Europe/Berlin:20240511T100000
DTEND;TZID=Europe/Berlin:20240511T150000
DTSTAMP:20260423T081055
CREATED:20240409T165212Z
LAST-MODIFIED:20240601T073035Z
UID:1430-1715421600-1715439600@freie-waehler-dossenheim.de
SUMMARY:Wahlstand am Friseur Bähr
DESCRIPTION:Wahlstand bei Hin & Hair by Michelle Bähr
URL:https://freie-waehler-dossenheim.de/termine/wahlstand-friseur-baehr-2/
LOCATION:Hin & Hair by Michelle Bähr\, Bahnhofstraße 3\, Dossenheim\, Baden-Württemberg\, 69221\, Deutschland
END:VEVENT
BEGIN:VEVENT
DTSTART;TZID=Europe/Berlin:20240513T183000
DTEND;TZID=Europe/Berlin:20240513T200000
DTSTAMP:20260423T081055
CREATED:20240409T172350Z
LAST-MODIFIED:20240409T172457Z
UID:1462-1715625000-1715630400@freie-waehler-dossenheim.de
SUMMARY:Dossenheim wählt | vhs-Diskussion
DESCRIPTION:Meine Stadt – meine Themen – meine Wahl: Kandidaten-Vorstellung. Ziel ist den Bürgerinnen und Bürgern von Dossenheim die Möglichkeit zu geben in einem idealen Rahmen Kandidierende aller Fraktionen zur Gemeinderatswahl der Gemeinde Dossenheim kennenzulernen und Gespräche zu führen.
URL:https://freie-waehler-dossenheim.de/termine/dossenheim-waehlt-vhs-diskussion/
LOCATION:Martin Luther Haus\, Am Kronenburger Hof 6A\, Dossenheim\, Baden-Württemberg\, 69221\, Deutschland
END:VEVENT
BEGIN:VEVENT
DTSTART;TZID=Europe/Berlin:20240515T100000
DTEND;TZID=Europe/Berlin:20240515T140000
DTSTAMP:20260423T081055
CREATED:20240115T183743Z
LAST-MODIFIED:20240409T171027Z
UID:717-1715767200-1715781600@freie-waehler-dossenheim.de
SUMMARY:Wahlpräsenz am Zunftbaum III
DESCRIPTION:Wahlpräsenz am Zunftbaum\, Rathausplatz
URL:https://freie-waehler-dossenheim.de/termine/wahlpraesenz-zunftbaum-3/
LOCATION:Zunftbaum\, Rathausplatz\, Dossenheim\, Baden-Württemberg\, 69221\, Deutschland
END:VEVENT
BEGIN:VEVENT
DTSTART;TZID=Europe/Berlin:20240518T100000
DTEND;TZID=Europe/Berlin:20240518T150000
DTSTAMP:20260423T081055
CREATED:20240409T165404Z
LAST-MODIFIED:20240601T073128Z
UID:1435-1716026400-1716044400@freie-waehler-dossenheim.de
SUMMARY:Wahlstand am Friseur Bähr
DESCRIPTION:Wahlstand neben Hin & Hair by Michelle Bähr
URL:https://freie-waehler-dossenheim.de/termine/wahlstand-friseur-baehr-3/
LOCATION:Hin & Hair by Michelle Bähr\, Bahnhofstraße 3\, Dossenheim\, Baden-Württemberg\, 69221\, Deutschland
END:VEVENT
BEGIN:VEVENT
DTSTART;TZID=Europe/Berlin:20240522T100000
DTEND;TZID=Europe/Berlin:20240522T150000
DTSTAMP:20260423T081055
CREATED:20240409T171240Z
LAST-MODIFIED:20240409T171245Z
UID:1452-1716372000-1716390000@freie-waehler-dossenheim.de
SUMMARY:Wahlpräsenz am Zunftbaum IV
DESCRIPTION:Wahlpräsenz am Zunftbaum\, Rathausplatz
URL:https://freie-waehler-dossenheim.de/termine/wahlpraesenz-zunftbaum-4/
LOCATION:Zunftbaum\, Rathausplatz\, Dossenheim\, Baden-Württemberg\, 69221\, Deutschland
END:VEVENT
BEGIN:VEVENT
DTSTART;TZID=Europe/Berlin:20240525T100000
DTEND;TZID=Europe/Berlin:20240525T150000
DTSTAMP:20260423T081055
CREATED:20240409T165917Z
LAST-MODIFIED:20240601T072627Z
UID:1437-1716631200-1716649200@freie-waehler-dossenheim.de
SUMMARY:Wahlstand am Friseur Bähr
DESCRIPTION:Wahlstand neben Hin & Hair by Michelle Bähr
URL:https://freie-waehler-dossenheim.de/termine/wahlstand-friseur-baehr-4/
LOCATION:Hin & Hair by Michelle Bähr\, Bahnhofstraße 3\, Dossenheim\, Baden-Württemberg\, 69221\, Deutschland
END:VEVENT
BEGIN:VEVENT
DTSTART;TZID=Europe/Berlin:20240529T100000
DTEND;TZID=Europe/Berlin:20240529T150000
DTSTAMP:20260423T081055
CREATED:20240409T171349Z
LAST-MODIFIED:20240409T171355Z
UID:1454-1716976800-1716994800@freie-waehler-dossenheim.de
SUMMARY:Wahlpräsenz am Zunftbaum V
DESCRIPTION:Wahlpräsenz am Zunftbaum\, Rathausplatz
URL:https://freie-waehler-dossenheim.de/termine/wahlpraesenz-zunftbaum-5/
LOCATION:Zunftbaum\, Rathausplatz\, Dossenheim\, Baden-Württemberg\, 69221\, Deutschland
END:VEVENT
END:VCALENDAR