BEGIN:VCALENDAR
VERSION:2.0
PRODID:-//Freie Wähler Dossenheim - ECPv6.15.12.2//NONSGML v1.0//EN
CALSCALE:GREGORIAN
METHOD:PUBLISH
X-ORIGINAL-URL:https://freie-waehler-dossenheim.de
X-WR-CALDESC:Veranstaltungen für Freie Wähler Dossenheim
REFRESH-INTERVAL;VALUE=DURATION:PT1H
X-Robots-Tag:noindex
X-PUBLISHED-TTL:PT1H
BEGIN:VTIMEZONE
TZID:Europe/Berlin
BEGIN:DAYLIGHT
TZOFFSETFROM:+0100
TZOFFSETTO:+0200
TZNAME:CEST
DTSTART:20230326T010000
END:DAYLIGHT
BEGIN:STANDARD
TZOFFSETFROM:+0200
TZOFFSETTO:+0100
TZNAME:CET
DTSTART:20231029T010000
END:STANDARD
BEGIN:DAYLIGHT
TZOFFSETFROM:+0100
TZOFFSETTO:+0200
TZNAME:CEST
DTSTART:20240331T010000
END:DAYLIGHT
BEGIN:STANDARD
TZOFFSETFROM:+0200
TZOFFSETTO:+0100
TZNAME:CET
DTSTART:20241027T010000
END:STANDARD
BEGIN:DAYLIGHT
TZOFFSETFROM:+0100
TZOFFSETTO:+0200
TZNAME:CEST
DTSTART:20250330T010000
END:DAYLIGHT
BEGIN:STANDARD
TZOFFSETFROM:+0200
TZOFFSETTO:+0100
TZNAME:CET
DTSTART:20251026T010000
END:STANDARD
END:VTIMEZONE
BEGIN:VEVENT
DTSTART;TZID=Europe/Berlin:20240408T193000
DTEND;TZID=Europe/Berlin:20240408T213000
DTSTAMP:20260423T094145
CREATED:20240115T182934Z
LAST-MODIFIED:20240115T183001Z
UID:707-1712604600-1712611800@freie-waehler-dossenheim.de
SUMMARY:Kommunalpolitische Sitzung April
DESCRIPTION:Kommunalpolitische Sitzung mit aktuellen Themen
URL:https://freie-waehler-dossenheim.de/termine/kommunalpolitische-sitzung-april/
LOCATION:Rathaussaal\, Am Rathausplatz 1\, Dossenheim\, Baden-Württemberg\, 69221\, Deutschland
END:VEVENT
BEGIN:VEVENT
DTSTART;TZID=Europe/Berlin:20240417T100000
DTEND;TZID=Europe/Berlin:20240417T150000
DTSTAMP:20260423T094145
CREATED:20240417T191936Z
LAST-MODIFIED:20240417T192103Z
UID:1487-1713348000-1713366000@freie-waehler-dossenheim.de
SUMMARY:Jahreshauptversammlung Kreisverband
DESCRIPTION:
URL:https://freie-waehler-dossenheim.de/termine/jahreshauptversammlung-kreisverband/
LOCATION:Sportcenter\, Kulturbühne Max\, Hüttenfelder Straße 42\, Hemsbach\, Baden-Württemberg\, 69502
END:VEVENT
BEGIN:VEVENT
DTSTART;TZID=Europe/Berlin:20240421T140000
DTEND;TZID=Europe/Berlin:20240421T180000
DTSTAMP:20260423T094145
CREATED:20240409T171806Z
LAST-MODIFIED:20240409T171950Z
UID:1456-1713708000-1713722400@freie-waehler-dossenheim.de
SUMMARY:Sommertagsumzug 2024
DESCRIPTION:Sommertagsumzug vom Lorscher Weg zur Kurpfalzschule
URL:https://freie-waehler-dossenheim.de/termine/sommertagsumzug-2024/
LOCATION:Baden-Württemberg
END:VEVENT
BEGIN:VEVENT
DTSTART;TZID=Europe/Berlin:20240424T100000
DTEND;TZID=Europe/Berlin:20240424T140000
DTSTAMP:20260423T094145
CREATED:20240115T183521Z
LAST-MODIFIED:20240409T170832Z
UID:713-1713952800-1713967200@freie-waehler-dossenheim.de
SUMMARY:Wahlpräsenz am Zunftbaum I
DESCRIPTION:Wahlpräsenz am Zunftbaum\, Rathausplatz
URL:https://freie-waehler-dossenheim.de/termine/wahlpraesenz-zunftbaum-1/
LOCATION:Zunftbaum\, Rathausplatz\, Dossenheim\, Baden-Württemberg\, 69221\, Deutschland
END:VEVENT
END:VCALENDAR