BEGIN:VCALENDAR
VERSION:2.0
PRODID:-//Freie Wähler Dossenheim - ECPv6.15.12.2//NONSGML v1.0//EN
CALSCALE:GREGORIAN
METHOD:PUBLISH
X-ORIGINAL-URL:https://freie-waehler-dossenheim.de
X-WR-CALDESC:Veranstaltungen für Freie Wähler Dossenheim
REFRESH-INTERVAL;VALUE=DURATION:PT1H
X-Robots-Tag:noindex
X-PUBLISHED-TTL:PT1H
BEGIN:VTIMEZONE
TZID:Europe/Berlin
BEGIN:DAYLIGHT
TZOFFSETFROM:+0100
TZOFFSETTO:+0200
TZNAME:CEST
DTSTART:20230326T010000
END:DAYLIGHT
BEGIN:STANDARD
TZOFFSETFROM:+0200
TZOFFSETTO:+0100
TZNAME:CET
DTSTART:20231029T010000
END:STANDARD
BEGIN:DAYLIGHT
TZOFFSETFROM:+0100
TZOFFSETTO:+0200
TZNAME:CEST
DTSTART:20240331T010000
END:DAYLIGHT
BEGIN:STANDARD
TZOFFSETFROM:+0200
TZOFFSETTO:+0100
TZNAME:CET
DTSTART:20241027T010000
END:STANDARD
BEGIN:DAYLIGHT
TZOFFSETFROM:+0100
TZOFFSETTO:+0200
TZNAME:CEST
DTSTART:20250330T010000
END:DAYLIGHT
BEGIN:STANDARD
TZOFFSETFROM:+0200
TZOFFSETTO:+0100
TZNAME:CET
DTSTART:20251026T010000
END:STANDARD
END:VTIMEZONE
BEGIN:VEVENT
DTSTART;TZID=Europe/Berlin:20240205T193000
DTEND;TZID=Europe/Berlin:20240205T213000
DTSTAMP:20260423T125735
CREATED:20240115T182027Z
LAST-MODIFIED:20240122T183821Z
UID:695-1707161400-1707168600@freie-waehler-dossenheim.de
SUMMARY:Kommunalpolitische Sitzung Februar/Wahlnominierung
DESCRIPTION:Kommunalpolitische Sitzung und Wahlnominierungsveranstaltung
URL:https://freie-waehler-dossenheim.de/termine/kommunalpolitische-sitzung-februar-wahlnominierungsveranstaltung/
LOCATION:Rathaussaal\, Am Rathausplatz 1\, Dossenheim\, Baden-Württemberg\, 69221\, Deutschland
END:VEVENT
BEGIN:VEVENT
DTSTART;TZID=Europe/Berlin:20240209T190000
DTEND;TZID=Europe/Berlin:20240209T220000
DTSTAMP:20260423T125735
CREATED:20240130T194137Z
LAST-MODIFIED:20240130T194305Z
UID:1109-1707505200-1707516000@freie-waehler-dossenheim.de
SUMMARY:Nominierungsversammlung Kreistagswahl 2024
DESCRIPTION:Nominierungsversammlung unserer Kandidaten des Wahlkreises 3 (Schriesheim\, Hirschberg\, Dossenheim) für die Kreistagswahl 2024
URL:https://freie-waehler-dossenheim.de/termine/nominierungsversammlung-kreistagswahl-2024/
LOCATION:Hotel-Weinstuben Hauser\, Steinachstraße 12\, Schriesheim\, Baden-Württemberg\, 69198\, Deutschland
END:VEVENT
END:VCALENDAR